BEGIN:VCALENDAR
VERSION:2.0
PRODID:Imitheme.com 
BEGIN:VEVENT
UID:20260424T1906301993525081
DTSTAMP;TZID=UTC:2026-04-24 19:06:30
DTSTART;TZID=America/Los_Angeles:20220813T193000
DTEND;TZID=America/Los_Angeles:20220813T223000
SUMMARY:New Jersey Boys
LOCATION:75 George Street\, Stranraer\, DG9 7JP
DESCRIPTION:ALL THE HITS FROM FRANKIE VALLI &THE FOUR SEASONS, A FUN PACKED SHOW WITH GREAT MUSIC AND ROUTINES
URL:https://stranraermillenniumcentre.co.uk/eventer/new-jersey-boys/edate/2022-08-13
END:VEVENT
END:VCALENDAR
